BEGIN:VCALENDAR
VERSION:2.0
PRODID:-//Ford Ranchero - ECPv4.1.4//NONSGML v1.0//EN
CALSCALE:GREGORIAN
METHOD:PUBLISH
X-WR-CALNAME:Ford Ranchero
X-ORIGINAL-URL:https://ford-ranchero.de
X-WR-CALDESC:Events for Ford Ranchero
BEGIN:VEVENT
DTSTART;TZID=UTC+2:20170423T100000
DTEND;TZID=UTC+2:20170423T180000
DTSTAMP:20260422T173158
CREATED:20161215T150205
LAST-MODIFIED:20161215T150356
UID:1443-1492941600-1492970400@ford-ranchero.de
SUMMARY:Youngtimer Vestival - Saisonstart 2017 (Herten)
DESCRIPTION:\n\n \n\nDas Youngtimer-Ticket kostet 10 € pro PKW! Im Ticket enthalten:\n\n \tZufahrt auf das Eventgelände\n \tEine Ausgabe eines Szene-Magazins\n \tLimitierter Vestival-Aufkleber\n\nFür Besucher ("Fußgänger") ist der Zutritt zum Veranstaltungsgelände kostenlos! Das Parken außerhalb des Eventgeländes ist ebenfalls kostenlos!\n\n@ Facebook
URL:https://ford-ranchero.de/event/youngtimer-vestival-saisonstart-2017-herten/
LOCATION:Doncaster Platz 2\, Herten\, 45699
GEO:51.5724274;7.1487681
X-APPLE-STRUCTURED-LOCATION;VALUE=URI;X-ADDRESS=Doncaster Platz 2 Herten 45699;X-APPLE-RADIUS=500;X-TITLE=Doncaster Platz 2:geo:7.1487681,51.5724274
END:VEVENT
END:VCALENDAR