BEGIN:VCALENDAR
VERSION:2.0
PRODID:-//Ford Ranchero - ECPv4.1.4//NONSGML v1.0//EN
CALSCALE:GREGORIAN
METHOD:PUBLISH
X-WR-CALNAME:Ford Ranchero
X-ORIGINAL-URL:https://ford-ranchero.de
X-WR-CALDESC:Events for Ford Ranchero
BEGIN:VEVENT
DTSTART;TZID=UTC+2:20170415T120000
DTEND;TZID=UTC+2:20170415T200000
DTSTAMP:20260422T202501
CREATED:20161130T183035
LAST-MODIFIED:20161130T184114
UID:1419-1492257600-1492286400@ford-ranchero.de
SUMMARY:V8 - US Cars & Sportwagen treffen - Season Opening / Tag1 @ Generation (Moers)
DESCRIPTION:https://www.facebook.com/events/1219047381522204/\n\nhttps://www.facebook.com/events/310658502641728/
URL:https://ford-ranchero.de/event/v8-us-cars-sportwagen-treffen-season-opening-tag1-generation-moers/
LOCATION:Franz-Haniel-Str. 18\, Moers\, 47443
GEO:51.4542628;6.6642304
X-APPLE-STRUCTURED-LOCATION;VALUE=URI;X-ADDRESS=Franz-Haniel-Str. 18 Moers 47443;X-APPLE-RADIUS=500;X-TITLE=Franz-Haniel-Str. 18:geo:6.6642304,51.4542628
END:VEVENT
END:VCALENDAR