BEGIN:VCALENDAR
VERSION:2.0
PRODID:-//Ford Ranchero - ECPv4.1.4//NONSGML v1.0//EN
CALSCALE:GREGORIAN
METHOD:PUBLISH
X-WR-CALNAME:Ford Ranchero
X-ORIGINAL-URL:https://ford-ranchero.de
X-WR-CALDESC:Events for Ford Ranchero
BEGIN:VEVENT
DTSTART;TZID=UTC+2:20160505T110000
DTEND;TZID=UTC+2:20160505T180000
DTSTAMP:20260423T154226
CREATED:20160323T090332
LAST-MODIFIED:20160323T090332
UID:606-1462446000-1462471200@ford-ranchero.de
SUMMARY:Primers Run 2016 @ Mo's Bikertreff (Krefeld)
DESCRIPTION:\n\nPrimers Run\, US Cars & Bikes\n\n\n\n\nEintritt frei\n\n\nwww.primers-cc.de\n\nhttp://primers-nrw.de.tl/Kalender.htm\n\n
URL:https://ford-ranchero.de/event/primers-run-2016-mos-bikertreff-krefeld/
LOCATION:Kleineweferstraße 160\, Krefeld\, 47803
GEO:51.3421241;6.5395533
X-APPLE-STRUCTURED-LOCATION;VALUE=URI;X-ADDRESS=Kleineweferstraße 160 Krefeld 47803;X-APPLE-RADIUS=500;X-TITLE=Kleineweferstraße 160:geo:6.5395533,51.3421241
END:VEVENT
END:VCALENDAR