BEGIN:VCALENDAR
VERSION:2.0
PRODID:-//Ford Ranchero - ECPv4.1.4//NONSGML v1.0//EN
CALSCALE:GREGORIAN
METHOD:PUBLISH
X-WR-CALNAME:Ford Ranchero
X-ORIGINAL-URL:https://ford-ranchero.de
X-WR-CALDESC:Events for Ford Ranchero
BEGIN:VEVENT
DTSTART;TZID=UTC+2:20160515T100000
DTEND;TZID=UTC+2:20160515T150000
DTSTAMP:20260423T124811
CREATED:20160323T100026
LAST-MODIFIED:20160323T100026
UID:612-1463306400-1463324400@ford-ranchero.de
SUMMARY:Oldtimer Treffen Ruhr @ Zeche Ewald (Herten)
DESCRIPTION:Termine 2016 – jeweils immer am 3. Sonntag: 20. März\, 17. April\, 15. Mai\, 19. Juni\, 17. Juli\, ACHTUNG: IM AUGUST IST KEIN TREFFEN\, 18. September und 16. Oktober.\n\nUm 10:00 Uhr beginnt unser kleiner familiärer Szenetreff\, so gegen 15:00 Uhr endet unsere Verantwortung.\n\nWie gewohnt gibt es gastronomische Angebote: Currywurst\, Pommes\, Burger\, Espresso\, Kaltgetränke aller Art usw.\nnur Fahrzeuge bis Zulassung 1986\n3\,- € Parkgebühr\, 2\,- € für 2-Räder\n\nhttp://www.oldtimertreff-ruhr.de/teilnahme
URL:https://ford-ranchero.de/event/oldtimer-treffen-ruhr-zeche-ewald-herten/
LOCATION:Doncaster Platz 2\, Herten\, 45699
GEO:51.5724274;7.1487681
X-APPLE-STRUCTURED-LOCATION;VALUE=URI;X-ADDRESS=Doncaster Platz 2 Herten 45699;X-APPLE-RADIUS=500;X-TITLE=Doncaster Platz 2:geo:7.1487681,51.5724274
END:VEVENT
END:VCALENDAR