BEGIN:VCALENDAR
VERSION:2.0
PRODID:-//Ford Ranchero - ECPv4.1.4//NONSGML v1.0//EN
CALSCALE:GREGORIAN
METHOD:PUBLISH
X-WR-CALNAME:Ford Ranchero
X-ORIGINAL-URL:https://ford-ranchero.de
X-WR-CALDESC:Events for Ford Ranchero
BEGIN:VEVENT
DTSTART;TZID=UTC+2:20160403T130000
DTEND;TZID=UTC+2:20160403T180000
DTSTAMP:20260424T125706
CREATED:20160611T154621
LAST-MODIFIED:20160809T024906
UID:1012-1459688400-1459706400@ford-ranchero.de
SUMMARY:Oldtimer Treffen @ Gut Keinemann (Bergkamen)
DESCRIPTION:Das regelmäßige Treffen findet jeweils am 1. Sonntag im Monat von 13 bis 18 Uhr statt\n \n\n \n\nhttp://www.oldtimer-gut-keinemann.de
URL:https://ford-ranchero.de/event/oldtimer-treffen-gut-keinemann-bergkamen/2016-04-03/
LOCATION:Fürstenhof 1\, Bergkamen-Rünthe\, 59192
GEO:51.64524;7.63561
X-APPLE-STRUCTURED-LOCATION;VALUE=URI;X-ADDRESS=Fürstenhof 1 Bergkamen-Rünthe 59192;X-APPLE-RADIUS=500;X-TITLE=Fürstenhof 1:geo:7.63561,51.64524
CATEGORIES:Oldtimer-Treffen
END:VEVENT
END:VCALENDAR