BEGIN:VCALENDAR
VERSION:2.0
PRODID:-//Ford Ranchero - ECPv4.1.4//NONSGML v1.0//EN
CALSCALE:GREGORIAN
METHOD:PUBLISH
X-WR-CALNAME:Ford Ranchero
X-ORIGINAL-URL:https://ford-ranchero.de
X-WR-CALDESC:Events for Ford Ranchero
BEGIN:VEVENT
DTSTART;TZID=UTC+2:20160417T110000
DTEND;TZID=UTC+2:20160417T180000
DTSTAMP:20260424T034404
CREATED:20160410T170716
LAST-MODIFIED:20160410T170933
UID:798-1460890800-1460916000@ford-ranchero.de
SUMMARY:Old- & Youngtimertreffen (Castrop-Rauxel)
DESCRIPTION:kostenlose Einfahrt!\n\nVeranstalter:\nHarald Lattner\n0172-2820125\nharald.lattner@web.de\n\nDeLorean
URL:https://ford-ranchero.de/event/old-youngtimertreffen_castroprauxel/
LOCATION:Castrop-Rauxel
END:VEVENT
END:VCALENDAR