BEGIN:VCALENDAR
VERSION:2.0
PRODID:-//Ford Ranchero - ECPv4.1.4//NONSGML v1.0//EN
CALSCALE:GREGORIAN
METHOD:PUBLISH
X-WR-CALNAME:Ford Ranchero
X-ORIGINAL-URL:https://ford-ranchero.de
X-WR-CALDESC:Events for Ford Ranchero
BEGIN:VEVENT
DTSTART;TZID=UTC+2:20160527T180000
DTEND;TZID=UTC+2:20160527T230000
DTSTAMP:20260423T095701
CREATED:20160323T090751
LAST-MODIFIED:20160323T090751
UID:608-1464372000-1464390000@ford-ranchero.de
SUMMARY:Moonlight Meeting 2016 / US-Car Lights Show @ Mo's Bikertreff (Krefeld)
DESCRIPTION:Barbeque - Music - Party\n\nStartgeld:   5\,00 €\nEintritt frei\n\n
URL:https://ford-ranchero.de/event/moonlight-meeting-2016/
LOCATION:Kleineweferstraße 160\, Krefeld\, 47803
GEO:51.3421241;6.5395533
X-APPLE-STRUCTURED-LOCATION;VALUE=URI;X-ADDRESS=Kleineweferstraße 160 Krefeld 47803;X-APPLE-RADIUS=500;X-TITLE=Kleineweferstraße 160:geo:6.5395533,51.3421241
END:VEVENT
END:VCALENDAR