BEGIN:VCALENDAR
VERSION:2.0
PRODID:-//Ford Ranchero - ECPv4.1.4//NONSGML v1.0//EN
CALSCALE:GREGORIAN
METHOD:PUBLISH
X-WR-CALNAME:Ford Ranchero
X-ORIGINAL-URL:https://ford-ranchero.de
X-WR-CALDESC:Events for Ford Ranchero
BEGIN:VEVENT
DTSTART;TZID=UTC+2:20160508T093000
DTEND;TZID=UTC+2:20160508T130000
DTSTAMP:20260423T142308
CREATED:20160506T112248
LAST-MODIFIED:20160506T112303
UID:956-1462699800-1462712400@ford-ranchero.de
SUMMARY:Frühstück (05-2016) @ Rippe-Speed-Custom (Unna)
DESCRIPTION:Michael Voss aka „Rippe“ läd zum Frühstück (Buffet) in seinen heiligen Hallen ein…\n\nUnkostenbeitrag: 4\,00 €/Person\n
URL:https://ford-ranchero.de/event/fruehstueck-05-2016-rippe-speed-custom-unna/
LOCATION:Hansastr. 87 c\, Unna\, 59425
GEO:51.5415475;7.6721398
X-APPLE-STRUCTURED-LOCATION;VALUE=URI;X-ADDRESS=Hansastr. 87 c Unna 59425;X-APPLE-RADIUS=500;X-TITLE=Hansastr. 87 c:geo:7.6721398,51.5415475
ORGANIZER;CN="Rippe%20Speed%20Custom":MAILTO:info@rippe-speed-custom.com
END:VEVENT
END:VCALENDAR