BEGIN:VCALENDAR
VERSION:2.0
PRODID:-//Ford Ranchero - ECPv4.1.4//NONSGML v1.0//EN
CALSCALE:GREGORIAN
METHOD:PUBLISH
X-WR-CALNAME:Ford Ranchero
X-ORIGINAL-URL:https://ford-ranchero.de
X-WR-CALDESC:Events for Ford Ranchero
BEGIN:VEVENT
DTSTART;TZID=UTC+2:20160501T100000
DTEND;TZID=UTC+2:20160501T170000
DTSTAMP:20260423T195550
CREATED:20160411T180929
LAST-MODIFIED:20160411T181027
UID:811-1462096800-1462122000@ford-ranchero.de
SUMMARY:Cars & Coffeeday 2016 (Drolshagen)
DESCRIPTION:\n\n 
URL:https://ford-ranchero.de/event/cars_coffeeday_2016_drolshagen/
END:VEVENT
END:VCALENDAR