BEGIN:VCALENDAR
VERSION:2.0
PRODID:-//Ford Ranchero - ECPv4.1.4//NONSGML v1.0//EN
CALSCALE:GREGORIAN
METHOD:PUBLISH
X-WR-CALNAME:Ford Ranchero
X-ORIGINAL-URL:https://ford-ranchero.de
X-WR-CALDESC:Events for Ford Ranchero
BEGIN:VEVENT
DTSTART;TZID=UTC+2:20170617T093000
DTEND;TZID=UTC+2:20170617T180000
DTSTAMP:20260424T075155
CREATED:20161215T152147
LAST-MODIFIED:20161223T090928
UID:1449-1497691800-1497722400@ford-ranchero.de
SUMMARY:4. US Car Treffen des US CAR CLUB NRW (Hemer)
DESCRIPTION:Uhrzeit:   9:30 - 17:30 (jeweils Sa + So)\n\nUS Cars mit 2-4-6-8 oder 16 Rädern incl. 2 Personen haben wie immer freien Eintritt.\nBesucher zahlen 5\,00€ Parkeintritt.\n\nEs gibt Live Musik. American Food aus einem Super Airstraem Diner\, eine Kiddis Erlebnismeile usw.\n\nAm Sonntag den 05.06. moderiert wiederum der aus Funk und Fernsehen bekannte Entertainer RON WILLIAMS unser Event und nimmt auch die Pokalverleihung vor. Leider sind Hunde und qalmendes Reifengummi im Park nicht erlaubt. Wir bitten um Verständnis.\n\n\n\nhttp://www.uscarclubnrw.de
URL:https://ford-ranchero.de/event/4-us-car-treffen-des-us-car-club-nrw-hemer/2017-06-17/
LOCATION:Ostenschlahstraße 60\, Hemer\, 58675
GEO:51.387;7.7775
X-APPLE-STRUCTURED-LOCATION;VALUE=URI;X-ADDRESS=Ostenschlahstraße 60 Hemer 58675;X-APPLE-RADIUS=500;X-TITLE=Ostenschlahstraße 60:geo:7.7775,51.387
END:VEVENT
END:VCALENDAR