BEGIN:VCALENDAR
VERSION:2.0
PRODID:-//Ford Ranchero - ECPv4.1.4//NONSGML v1.0//EN
CALSCALE:GREGORIAN
METHOD:PUBLISH
X-WR-CALNAME:Ford Ranchero
X-ORIGINAL-URL:https://ford-ranchero.de
X-WR-CALDESC:Events for Ford Ranchero
BEGIN:VEVENT
DTSTART;TZID=UTC+2:20170826T100000
DTEND;TZID=UTC+2:20170827T180000
DTSTAMP:20260420T121959
CREATED:20161129T163656
LAST-MODIFIED:20161129T163926
UID:1416-1503741600-1503856800@ford-ranchero.de
SUMMARY:12. US-Car & Bike Show (Grefrath)
DESCRIPTION:\n\nhttps://www.facebook.com/events/#/
URL:https://ford-ranchero.de/event/12-us-car-bike-show-grefrath/
LOCATION:Stadionstraße 161\, Grefrath\, 47929
GEO:51.34806;6.34076
X-APPLE-STRUCTURED-LOCATION;VALUE=URI;X-ADDRESS=Stadionstraße 161 Grefrath 47929;X-APPLE-RADIUS=500;X-TITLE=Stadionstraße 161:geo:6.34076,51.34806
END:VEVENT
END:VCALENDAR